BEGIN:VCALENDAR
VERSION:2.0
PRODID:-// eRoom plugin //NONSGML v1.0//EN
CALSCALE:GREGORIAN
BEGIN:VEVENT
UID:eRoom-1776671911
SUMMARY:Hoe je een budget opstelt en je financiën beheert
LOCATION:
DESCRIPTION:Wat is een budget? Is het nodig? Hoe stel je een budget op? Hoe
 veel moet je besparen met een budget? Hoe houd je je aan een budget? Wanne
 er pas je een budget aan? Veelgemaakte fouten bij het maken van een budget
 \, voordelen van een budget\, de rol van een budget bij financiële stabil
 iteit\, en hulpmiddelen om een budget te beheren.\n\n---\n\nHoe je een bud
 get opstelt en je financiën beheert is inviting you to a scheduled Zoom m
 eeting.\n\nJoin Zoom Meeting\nhttps://zoom.us/j/99074856671?pwd=bnR0NHBtdF
 ZVUi85T21kUWQ2R0swQT09\n\nMeeting ID: 99074856671\nPasscode: we57nfs4\n
URL;VALUE=URI:https://zoom.us/j/99074856671?pwd=bnR0NHBtdFZVUi85T21kUWQ2R0swQT09
DTSTART:20241114T180000Z
DTEND:20241114T185800Z
DTSTAMP:20260420T075831Z
BEGIN:VALARM
ACTION:DISPLAY
RIGGER;RELATED=START:-PT00H15M00S
BEGIN:VALARM
END:VEVENT
END:VCALENDAR